BEGIN:VCALENDAR
VERSION:2.0
PRODID:-//VR 4 SKILLS - ECPv6.0.8//NONSGML v1.0//EN
CALSCALE:GREGORIAN
METHOD:PUBLISH
X-ORIGINAL-URL:https://vr4skills.eu
X-WR-CALDESC:Events for VR 4 SKILLS
REFRESH-INTERVAL;VALUE=DURATION:PT1H
X-Robots-Tag:noindex
X-PUBLISHED-TTL:PT1H
BEGIN:VTIMEZONE
TZID:UTC
BEGIN:STANDARD
TZOFFSETFROM:+0000
TZOFFSETTO:+0000
TZNAME:UTC
DTSTART:20230101T000000
END:STANDARD
END:VTIMEZONE
BEGIN:VEVENT
DTSTART;VALUE=DATE:20231002
DTEND;VALUE=DATE:20231005
DTSTAMP:20260423T045338
CREATED:20231005T142318Z
LAST-MODIFIED:20250102T145001Z
UID:3989-1696204800-1696463999@vr4skills.eu
SUMMARY:VR4Skills Project Meeting at UC Leuven-Limburg - October 2023
DESCRIPTION:
URL:https://vr4skills.eu/event/vr4skills-project-meeting-at-uc-leuven-limburg-october-2023/
END:VEVENT
BEGIN:VEVENT
DTSTART;VALUE=DATE:20231002
DTEND;VALUE=DATE:20231005
DTSTAMP:20260423T045338
CREATED:20231227T090404Z
LAST-MODIFIED:20250102T144954Z
UID:3630-1696204800-1696463999@vr4skills.eu
SUMMARY:Partner meeting in Belgium – project Partner – UCLL
DESCRIPTION:International. \n– Design training course enhanced by VR\n– feedback content and instructional design scenario for the training course with project consortium partners\n– Train-the-trainer seminar\n– Project consortium partner meeting \nWebsite: https://3.basecamp.com/3726211/buckets/26370964/vaults/6614309049 \nIn this three-day meeting\, all our partners had the chance to sit together and:\n– discuss several topics of interest.\n– establish the theoretical framework for the training package\n– check the progress of the VR4Skills training package and evaluate it so far\n– receive an introduction to virtual reality and had the chance to experience it.\n– discuss the design oft he possible virtual reality scenarios to be integrated in the training program\n– clarify aspects that needed to be revised in relation to the organisation of the research project\n– discuss budget-related topics and other administrative aspects\n– establish the line of the coming working packages\n– provide feedback on the project process \n  \nAudience: \n– DOBA Business School\n– UCLL\n– WSB University\n– Avans\n– Businet\n– Istanbul Aydin (IAU)
URL:https://vr4skills.eu/event/partner-meeting-in-belgium-project-partner-ucll/
LOCATION:Leuven\, Belgium\, Leuven\, Belgium
CATEGORIES:Dissemination Summary VR4Skills
END:VEVENT
END:VCALENDAR