BEGIN:VCALENDAR
VERSION:2.0
PRODID:-//VR 4 SKILLS - ECPv6.0.8//NONSGML v1.0//EN
CALSCALE:GREGORIAN
METHOD:PUBLISH
X-WR-CALNAME:VR 4 SKILLS
X-ORIGINAL-URL:https://vr4skills.eu
X-WR-CALDESC:Events for VR 4 SKILLS
REFRESH-INTERVAL;VALUE=DURATION:PT1H
X-Robots-Tag:noindex
X-PUBLISHED-TTL:PT1H
BEGIN:VTIMEZONE
TZID:UTC
BEGIN:STANDARD
TZOFFSETFROM:+0000
TZOFFSETTO:+0000
TZNAME:UTC
DTSTART:20230101T000000
END:STANDARD
END:VTIMEZONE
BEGIN:VEVENT
DTSTART;VALUE=DATE:20231030
DTEND;VALUE=DATE:20231031
DTSTAMP:20260423T032008
CREATED:20231227T083849Z
LAST-MODIFIED:20250102T144822Z
UID:3611-1698624000-1698710399@vr4skills.eu
SUMMARY:Train the trainer – project Partner – DOBA
DESCRIPTION:National. \nWebsite: https://www.facebook.com/photo?fbid=722010006635309&set=a.642807077888936
URL:https://vr4skills.eu/event/dissemination-summary-vr4skills-project-partner-doba-7/
CATEGORIES:Dissemination Summary VR4Skills
END:VEVENT
BEGIN:VEVENT
DTSTART;VALUE=DATE:20231030
DTEND;VALUE=DATE:20231031
DTSTAMP:20260423T032008
CREATED:20231227T084155Z
LAST-MODIFIED:20250102T144815Z
UID:3613-1698624000-1698710399@vr4skills.eu
SUMMARY:Train the trainer – project Partner – DOBA
DESCRIPTION:National. \nWebsite: https://www.instagram.com/p/CzBGVEbBKtW/?fbclid=IwAR2DZdbHI65cxI2dI45T_XWOSovxxZ8eGhnqj0tZ6lrwrnSqf0i7u52wUTE
URL:https://vr4skills.eu/event/dissemination-summary-vr4skills-project-partner-doba-8/
CATEGORIES:Dissemination Summary VR4Skills
END:VEVENT
BEGIN:VEVENT
DTSTART;VALUE=DATE:20231030
DTEND;VALUE=DATE:20231031
DTSTAMP:20260423T032008
CREATED:20231227T084648Z
LAST-MODIFIED:20250102T144809Z
UID:3615-1698624000-1698710399@vr4skills.eu
SUMMARY:Train the trainer – project Partner – DOBA
DESCRIPTION:International (Croatia) \nWebsite: https://www.facebook.com/photo?fbid=721682659983180&set=a.643253577826089
URL:https://vr4skills.eu/event/dissemination-summary-vr4skills-project-partner-doba-9/
CATEGORIES:Dissemination Summary VR4Skills
END:VEVENT
BEGIN:VEVENT
DTSTART;VALUE=DATE:20231030
DTEND;VALUE=DATE:20231031
DTSTAMP:20260423T032008
CREATED:20231227T084834Z
LAST-MODIFIED:20250102T144804Z
UID:3617-1698624000-1698710399@vr4skills.eu
SUMMARY:Train the trainer – project Partner – DOBA
DESCRIPTION:International (Serbia) \nWebsite: https://www.facebook.com/photo?fbid=739899901498761&set=a.658664432955642
URL:https://vr4skills.eu/event/dissemination-summary-vr4skills-project-partner-doba-10/
CATEGORIES:Dissemination Summary VR4Skills
END:VEVENT
BEGIN:VEVENT
DTSTART;VALUE=DATE:20231030
DTEND;VALUE=DATE:20231031
DTSTAMP:20260423T032008
CREATED:20231227T085059Z
LAST-MODIFIED:20250102T144759Z
UID:3619-1698624000-1698710399@vr4skills.eu
SUMMARY:Train the trainer – project Partner – DOBA
DESCRIPTION:Train the trainer. \nNational. \nWebsite: https://www.linkedin.com/feed/update/urn:li:activity:7124681387734884352
URL:https://vr4skills.eu/event/dissemination-summary-vr4skills-project-partner-doba-11/
CATEGORIES:Dissemination Summary VR4Skills
END:VEVENT
END:VCALENDAR