BEGIN:VCALENDAR
VERSION:2.0
PRODID:-//VR 4 SKILLS - ECPv6.0.8//NONSGML v1.0//EN
CALSCALE:GREGORIAN
METHOD:PUBLISH
X-WR-CALNAME:VR 4 SKILLS
X-ORIGINAL-URL:https://vr4skills.eu
X-WR-CALDESC:Events for VR 4 SKILLS
REFRESH-INTERVAL;VALUE=DURATION:PT1H
X-Robots-Tag:noindex
X-PUBLISHED-TTL:PT1H
BEGIN:VTIMEZONE
TZID:UTC
BEGIN:STANDARD
TZOFFSETFROM:+0000
TZOFFSETTO:+0000
TZNAME:UTC
DTSTART:20230101T000000
END:STANDARD
END:VTIMEZONE
BEGIN:VEVENT
DTSTART;VALUE=DATE:20231108
DTEND;VALUE=DATE:20231112
DTSTAMP:20260423T032022
CREATED:20231112T142619Z
LAST-MODIFIED:20250102T144753Z
UID:3991-1699401600-1699747199@vr4skills.eu
SUMMARY:VR4Skills Project Highlighted at 36th Businet Annual Conference - November 2023
DESCRIPTION:
URL:https://vr4skills.eu/event/vr4skills-project-highlighted-at-36th-businet-annual-conference-november-2023/
END:VEVENT
BEGIN:VEVENT
DTSTART;VALUE=DATE:20231108
DTEND;VALUE=DATE:20231112
DTSTAMP:20260423T032022
CREATED:20231227T092527Z
LAST-MODIFIED:20250102T144632Z
UID:3659-1699401600-1699747199@vr4skills.eu
SUMMARY:Annual Conference Warsaw - project Partner – Businet
DESCRIPTION:International. \nConference handbook: description of the project. \nAudience: All participants of conference.
URL:https://vr4skills.eu/event/annual-conference-warsaw-project-partner-businet/
CATEGORIES:Dissemination Summary VR4Skills
END:VEVENT
END:VCALENDAR