BEGIN:VCALENDAR
VERSION:2.0
PRODID:-//VR 4 SKILLS - ECPv6.0.8//NONSGML v1.0//EN
CALSCALE:GREGORIAN
METHOD:PUBLISH
X-WR-CALNAME:VR 4 SKILLS
X-ORIGINAL-URL:https://vr4skills.eu
X-WR-CALDESC:Events for VR 4 SKILLS
REFRESH-INTERVAL;VALUE=DURATION:PT1H
X-Robots-Tag:noindex
X-PUBLISHED-TTL:PT1H
BEGIN:VTIMEZONE
TZID:UTC
BEGIN:STANDARD
TZOFFSETFROM:+0000
TZOFFSETTO:+0000
TZNAME:UTC
DTSTART:20240101T000000
END:STANDARD
END:VTIMEZONE
BEGIN:VEVENT
DTSTART;VALUE=DATE:20241002
DTEND;VALUE=DATE:20241005
DTSTAMP:20260423T091601
CREATED:20241005T143455Z
LAST-MODIFIED:20250102T144616Z
UID:3999-1727827200-1728086399@vr4skills.eu
SUMMARY:Concluding Partner Meeting Held at WSB University - October 2024
DESCRIPTION:
URL:https://vr4skills.eu/event/concluding-partner-meeting-held-at-wsb-university-october-2024/
END:VEVENT
BEGIN:VEVENT
DTSTART;TZID=UTC:20241113T080000
DTEND;TZID=UTC:20241116T170000
DTSTAMP:20260423T091601
CREATED:20250102T140632Z
LAST-MODIFIED:20250102T144438Z
UID:3965-1731484800-1731776400@vr4skills.eu
SUMMARY:VR4Skills Workshop at 37th Businet Annual Conference in Istanbul - November 2024
DESCRIPTION:Read more
URL:https://vr4skills.eu/event/vr4skills-workshop-at-37th-businet-annual-conference-in-istanbul-november-2024/
END:VEVENT
END:VCALENDAR