BEGIN:VCALENDAR
VERSION:2.0
PRODID:-//VR 4 SKILLS - ECPv6.0.8//NONSGML v1.0//EN
CALSCALE:GREGORIAN
METHOD:PUBLISH
X-WR-CALNAME:VR 4 SKILLS
X-ORIGINAL-URL:https://vr4skills.eu
X-WR-CALDESC:Events for VR 4 SKILLS
REFRESH-INTERVAL;VALUE=DURATION:PT1H
X-Robots-Tag:noindex
X-PUBLISHED-TTL:PT1H
BEGIN:VTIMEZONE
TZID:UTC
BEGIN:STANDARD
TZOFFSETFROM:+0000
TZOFFSETTO:+0000
TZNAME:UTC
DTSTART:20240101T000000
END:STANDARD
END:VTIMEZONE
BEGIN:VEVENT
DTSTART;VALUE=DATE:20240415
DTEND;VALUE=DATE:20240417
DTSTAMP:20260422T180848
CREATED:20240407T142918Z
LAST-MODIFIED:20250102T144646Z
UID:3993-1713139200-1713311999@vr4skills.eu
SUMMARY:DOBA Hosts Successful VR4Skills Pilot Training - April 2024
DESCRIPTION:
URL:https://vr4skills.eu/event/doba-hosts-successful-vr4skills-pilot-training-april-2024/
END:VEVENT
BEGIN:VEVENT
DTSTART;VALUE=DATE:20240424
DTEND;VALUE=DATE:20240425
DTSTAMP:20260422T180848
CREATED:20240919T085808Z
LAST-MODIFIED:20250102T144652Z
UID:3819-1713916800-1714003199@vr4skills.eu
SUMMARY:VR4Skills Pilot Training at DOBA Business School
DESCRIPTION:Website: https://www.dobabusiness-school.eu/news/vr4skills-pilot-training-at-doba-business-school \nAs part of the Erasmus KA2 project VR4Skills\, DOBA Business School hosted a two-day pilot training on April 15-16\, 2024\, with partners from WSB University\, İstanbul Aydin University\, UC Leuven-Limburg\, Avans UAS\, and the Businet Network. This event concluded the pilot\, which began in January 2024 with four weeks of online training. \nThe training included four modules: \n\nMental/Cognitive Health Competencies: Improving emotional intelligence\, stress management\, and mental well-being.\nDigital Skills: Designing digital content and optimizing collaboration tools.\nLeadership and Management Skills: Enhancing leadership through collaboration and communication.\nIntercultural Effectiveness: Strengthening intercultural skills for global work environments.\n\nThe in-person session at DOBA focused on personal growth\, time management\, and work-life balance. Trainers Hidde Westerweele and Paul Bartels led the successful sessions. \nThe final phase will establish a VR environment for further competency development. This project demonstrates the power of interinstitutional collaboration and continuous professional growth.
URL:https://vr4skills.eu/event/vr4skills-pilot-training-at-doba-business-school/
LOCATION:Doba\, Maribor\, Slovenia
CATEGORIES:Pilot training
END:VEVENT
END:VCALENDAR