BEGIN:VCALENDAR
VERSION:2.0
PRODID:-//VR 4 SKILLS - ECPv6.0.8//NONSGML v1.0//EN
CALSCALE:GREGORIAN
METHOD:PUBLISH
X-ORIGINAL-URL:https://vr4skills.eu
X-WR-CALDESC:Events for VR 4 SKILLS
REFRESH-INTERVAL;VALUE=DURATION:PT1H
X-Robots-Tag:noindex
X-PUBLISHED-TTL:PT1H
BEGIN:VTIMEZONE
TZID:UTC
BEGIN:STANDARD
TZOFFSETFROM:+0000
TZOFFSETTO:+0000
TZNAME:UTC
DTSTART:20240101T000000
END:STANDARD
END:VTIMEZONE
BEGIN:VEVENT
DTSTART;VALUE=DATE:20240511
DTEND;VALUE=DATE:20240512
DTSTAMP:20260422T163842
CREATED:20250102T142142Z
LAST-MODIFIED:20250102T144658Z
UID:3987-1715385600-1715471999@vr4skills.eu
SUMMARY:Online Meeting Led by Istanbul Aydin University - May 2023
DESCRIPTION:Read more
URL:https://vr4skills.eu/event/online-meeting-led-by-istanbul-aydin-university-may-2023/
END:VEVENT
BEGIN:VEVENT
DTSTART;VALUE=DATE:20240516
DTEND;VALUE=DATE:20240517
DTSTAMP:20260422T163842
CREATED:20240517T143102Z
LAST-MODIFIED:20250102T144707Z
UID:3995-1715817600-1715903999@vr4skills.eu
SUMMARY:VR4Skills Project Showcased at IAU Global Partners Week 2024 - May 2024
DESCRIPTION:
URL:https://vr4skills.eu/event/vr4skills-project-showcased-at-iau-global-partners-week-2024-may-2024/
END:VEVENT
END:VCALENDAR